BEGIN:VCALENDAR
VERSION:2.0
PRODID:-//Focuzone Media - ECPv6.15.18//NONSGML v1.0//EN
CALSCALE:GREGORIAN
METHOD:PUBLISH
X-WR-CALNAME:Focuzone Media
X-ORIGINAL-URL:https://focuzonemedia.com
X-WR-CALDESC:Events for Focuzone Media
REFRESH-INTERVAL;VALUE=DURATION:PT1H
X-Robots-Tag:noindex
X-PUBLISHED-TTL:PT1H
BEGIN:VTIMEZONE
TZID:UTC
BEGIN:STANDARD
TZOFFSETFROM:+0000
TZOFFSETTO:+0000
TZNAME:UTC
DTSTART:20220101T000000
END:STANDARD
END:VTIMEZONE
BEGIN:VEVENT
DTSTART;VALUE=DATE:20240914
DTEND;VALUE=DATE:20240916
DTSTAMP:20260425T133056
CREATED:20240803T121544Z
LAST-MODIFIED:20240914T170545Z
UID:21701-1726272000-1726444799@focuzonemedia.com
SUMMARY:RASAM South Indian Music Festival UK - 2024
DESCRIPTION:https://www.youtube.com/@RASAMRECORDSRASAM south indian music festival 2024\nRASAM is the first ever Kerala Festival happening in London this time for the Onam 2024. SPREADING MUSIC | MENTAL HEALTH AWARENESS | ENHANCING YOUTH \nRASAM MUSIC FESTIVAL LONDON 2024 \n\nIF YOU’RE HERE RIGHT NOW.. READING THIS.. SO HAPPY THAT WE ARE GOING TO HAVE A GIG!! \nTHIS ONAM WILL BE VERY MUSICAL!! GET READY IN ADVANCE!! \nGET YOUR ADVANCE BAND TICKETS..!!  \nSat 14th Sep at 4:00pm–Sat 14th Sep at 11:30pm \n \n\n\nROYAL REGENCY LONDON\, London\n\n\n\n Last entry time: 7.30 PM\n\n\n Age restrictions: 12A\n\n\nTo create a vibrant platform that brings together renowned and emerging South Indian artists\, fosters cultural exchange\, and strengthens community bonds through the\nuniversal language of music. We aim to provide an unforgettable experience that promotes cultural diversity and supports local talent\, while also offering our sponsors\nmeaningful opportunities to engage with the community and enhance their corporate social responsibility (CSR) initiatives. \nLine up\nOPENING ACT – SURPRISE GUEST \nMAIN ACT – JOB KURIAN LIVE \nHEADLINING – THAIKKUDAM BRIDGE \nCLOSING ACT – RIBIN RICHARD
URL:https://focuzonemedia.com/event/rasam-south-indian-music-festival-uk-2024/
LOCATION:The Royal Regency\, 501 High St N\, Manor Park\, London\, E12 6TH\, United Kingdom
CATEGORIES:band,Concert,dj,Festival,live music,Show
ATTACH;FMTTYPE=image/png:https://focuzonemedia.com/wp-content/uploads/2024/08/woutqr.png
END:VEVENT
BEGIN:VEVENT
DTSTART;TZID=UTC:20231230T150000
DTEND;TZID=UTC:20231230T221500
DTSTAMP:20260425T133056
CREATED:20230611T170741Z
LAST-MODIFIED:20240612T093908Z
UID:21406-1703948400-1703974500@focuzonemedia.com
SUMMARY:THAIKKUDAM BRIDGE UK TOUR 2023 - LONDON
DESCRIPTION:BYRON HALL \nSat\, 30 Dec 2023\, 3:00PM
URL:https://focuzonemedia.com/event/thaikkudam-bridge-uk-tour-2023-london/
LOCATION:BYRON HALL\, Harrow Leisure Centre\, Christchurch Avenue\, Harrow\, HA3 5BD
CATEGORIES:Show
ATTACH;FMTTYPE=image/jpeg:https://focuzonemedia.com/wp-content/uploads/2024/06/8fcf5c6a-fcfe-4e29-8385-be4ae6dccf34.jpg
END:VEVENT
BEGIN:VEVENT
DTSTART;TZID=UTC:20231229T190000
DTEND;TZID=UTC:20231229T220000
DTSTAMP:20260425T133056
CREATED:20230611T170624Z
LAST-MODIFIED:20240716T084757Z
UID:21402-1703876400-1703887200@focuzonemedia.com
SUMMARY:THAIKKUDAM BRIDGE UK TOUR 2023 - BIRMINGHAM
DESCRIPTION:FORUM BIRMINGHAM \nFri\, 29 Dec 2023\, 7:00PM
URL:https://focuzonemedia.com/event/thaikkudam-bridge-uk-tour-2023-birmingham/
LOCATION:FORUM BIRMINGHAM\, 52-54 Dale End Birmingham\, B4 7LS
CATEGORIES:Show
ATTACH;FMTTYPE=image/jpeg:https://focuzonemedia.com/wp-content/uploads/2024/06/0843132c-8dcb-403e-8571-a9fce0d024e9.jpg
END:VEVENT
BEGIN:VEVENT
DTSTART;TZID=UTC:20231228T170000
DTEND;TZID=UTC:20231228T220000
DTSTAMP:20260425T133056
CREATED:20230611T170511Z
LAST-MODIFIED:20240716T084757Z
UID:21396-1703782800-1703800800@focuzonemedia.com
SUMMARY:THAIKKUDAM BRIDGE UK TOUR 2023 - GLASGOW
DESCRIPTION:BARROWLAND BALLROOM\, \nThu\, 28 Dec 2023\, 5:00PM
URL:https://focuzonemedia.com/event/thaikkudam-bridge-uk-tour-2023-glasgow/
LOCATION:BARROWLAND BALLROOM\, 244 Gallowgate\, Glasgow G4 0TT
CATEGORIES:Show
ATTACH;FMTTYPE=image/jpeg:https://focuzonemedia.com/wp-content/uploads/2024/06/8fcf5c6a-fcfe-4e29-8385-be4ae6dccf34.jpg
END:VEVENT
BEGIN:VEVENT
DTSTART;TZID=UTC:20230101T170000
DTEND;TZID=UTC:20230101T230000
DTSTAMP:20260425T133056
CREATED:20230611T170934Z
LAST-MODIFIED:20240716T084757Z
UID:21410-1672592400-1672614000@focuzonemedia.com
SUMMARY:THAIKKUDAM BRIDGE UK TOUR 2023 - BRISTOL
DESCRIPTION:GRAND PIER \nMon\, 01 Jan 2024\, 5:00PM
URL:https://focuzonemedia.com/event/thaikkudam-bridge-uk-tour-2023-bristol/
LOCATION:THE GRAND PIER\, Marine Parade\, Weston-super-Mare\, Somerset BS23 1AL
CATEGORIES:Show
ATTACH;FMTTYPE=image/jpeg:https://focuzonemedia.com/wp-content/uploads/2024/06/0843132c-8dcb-403e-8571-a9fce0d024e9.jpg
END:VEVENT
END:VCALENDAR